BEGIN:VCALENDAR
VERSION:2.0
PRODID:-//Omviebalance - ECPv6.15.20//NONSGML v1.0//EN
CALSCALE:GREGORIAN
METHOD:PUBLISH
X-ORIGINAL-URL:https://omviebalance.com
X-WR-CALDESC:Évènements pour Omviebalance
REFRESH-INTERVAL;VALUE=DURATION:PT1H
X-Robots-Tag:noindex
X-PUBLISHED-TTL:PT1H
BEGIN:VTIMEZONE
TZID:UTC
BEGIN:STANDARD
TZOFFSETFROM:+0000
TZOFFSETTO:+0000
TZNAME:UTC
DTSTART:20240101T000000
END:STANDARD
END:VTIMEZONE
BEGIN:VEVENT
DTSTART;TZID=UTC:20250118T113000
DTEND;TZID=UTC:20250118T130000
DTSTAMP:20260422T080013
CREATED:20241119T142739Z
LAST-MODIFIED:20250115T090914Z
UID:1072-1737199800-1737205200@omviebalance.com
SUMMARY:Fleurs de Bach anti-stress
DESCRIPTION:Vous vous sentez debord.ée.e\, fatigu.ée.e\, anxieu.se.x ou angois.ée.e? Cette situation est présente tout le temps dans votre mentale? Initiation aux fleurs de Bach c’est pour vous. Parfois les émotions peuvent être en contrôl et ça peut arriver d’aller trop loin\, de tomber dans une phase dépressive ou bien finir en burn out.   Les fleurs de Bach vous aident à aprivoiser vos émotions et à mieux comprendre que les émotions ont sa place\, mais il faut les maîtriser pour ne pas perdre le contrôle.  En Naturopathie j’utilise souvent les préparations personalisée avec mes consultant.es.s\, pour aider dans la sphère émotionnelle. \nLors de cet atelier\, vous aller avoir une rapide initiation\, pour comprendre les fleurs de Bach qui vont mieux avec votre personalité et situation présente.  Si vous voulez préparar le flacon pour quelqu’un d’autre c’est mieux l’inviter.  Les enfants de plus de 7 ans peuvent venir accompagnés d’un parent.  Vous aller donc préparez un flacon personalisé « mélange antistress » pour mieux gerer les émotions présentes.   \nTout au long de l’année\, sauf juillet et août\, le premièr samedi (hors vacances scolaires) de chaque mois\, de 11h30-13h\, je proposerais différentes thématiques autour de la naturopathie pour la gestion d’émotions\, le stress\, le sommeil\, la perte du poids durablement\, les troubles de la femme et les troubles de la peau.   \nQuand: 18 Janvier de 11h30-13h. \nOù: 3 rue Charles Péguy\, 3° étage -Co-coon\, dans la salle de réunions \nInfo généraux: Le materiel est comrpis dans le prix; max 8 participants \nAchetez 2 entrées et invitez quelqu’un\, un cadeau vous attendra à vous 2 !!! \nFinalement confirmez votre.vos achat.s par mail:  naturopatherachel@omviebalance.com  en précisant votre nom et prenom \n 
URL:https://omviebalance.com/evenement/fleurs-de-bach-anti-stress/
LOCATION:Co-coon\, 3 rue Charles Péguy\, Strasbourg\, Bas-Rhin\, 67000\, France
CATEGORIES:Atelier
ATTACH;FMTTYPE=image/jpeg:https://omviebalance.com/wp-content/uploads/2024/11/bach-flowers-scaled.jpg
ORGANIZER;CN="Raquel PE%C3%91A FAJARDO":MAILTO:naturopatherachel@omviebalance.com
END:VEVENT
END:VCALENDAR