BEGIN:VCALENDAR
VERSION:2.0
PRODID:-//Omviebalance - ECPv6.15.20//NONSGML v1.0//EN
CALSCALE:GREGORIAN
METHOD:PUBLISH
X-WR-CALNAME:Omviebalance
X-ORIGINAL-URL:https://omviebalance.com
X-WR-CALDESC:Évènements pour Omviebalance
REFRESH-INTERVAL;VALUE=DURATION:PT1H
X-Robots-Tag:noindex
X-PUBLISHED-TTL:PT1H
BEGIN:VTIMEZONE
TZID:UTC
BEGIN:STANDARD
TZOFFSETFROM:+0000
TZOFFSETTO:+0000
TZNAME:UTC
DTSTART:20230101T000000
END:STANDARD
END:VTIMEZONE
BEGIN:VEVENT
DTSTART;TZID=UTC:20241129T073000
DTEND;TZID=UTC:20241129T233000
DTSTAMP:20260422T111335
CREATED:20241121T111859Z
LAST-MODIFIED:20241121T111859Z
UID:1086-1732865400-1732923000@omviebalance.com
SUMMARY:Black Friday 2024
DESCRIPTION:OMVIEBALANCE – Raquel Peña Fajardo naturopathe et réflexologue à strasbourg féte son 5° anniversaire !!! \nAlors pour cette grand ocasion\, un des cadeaux est te donner un code promo pour profiter d’un MASSEGE DETENTE OU BOOS D’ENERGIE\, de 1h30 OFFERT !!! \n\nReserve en ligne sur mon site:\nwww.omviebalance.com /mon-cabinet-moi/\nPrends rendez-vous et lors de ta reservation\, dans la section « message du client » mets le code promo NATURORP24.\nLe jour du rendez-vous\, demande ton coupon pour profiter du même bonheur une prochaine fois !\n\nVoilà c’est tout! Comme j’aime bien vous gâter 🙂 🙂 🙂 \n 
URL:https://omviebalance.com/evenement/black-friday-2024/
LOCATION:Co-coon\, 3 rue Charles Péguy\, Strasbourg\, Bas-Rhin\, 67000\, France
ORGANIZER;CN="Raquel PE%C3%91A FAJARDO":MAILTO:naturopatherachel@omviebalance.com
END:VEVENT
END:VCALENDAR