BEGIN:VCALENDAR
VERSION:2.0
PRODID:-//Omviebalance - ECPv6.15.20//NONSGML v1.0//EN
CALSCALE:GREGORIAN
METHOD:PUBLISH
X-ORIGINAL-URL:https://omviebalance.com
X-WR-CALDESC:Évènements pour Omviebalance
REFRESH-INTERVAL;VALUE=DURATION:PT1H
X-Robots-Tag:noindex
X-PUBLISHED-TTL:PT1H
BEGIN:VTIMEZONE
TZID:UTC
BEGIN:STANDARD
TZOFFSETFROM:+0000
TZOFFSETTO:+0000
TZNAME:UTC
DTSTART:20230101T000000
END:STANDARD
END:VTIMEZONE
BEGIN:VEVENT
DTSTART;TZID=UTC:20240330T090000
DTEND;TZID=UTC:20240401T160000
DTSTAMP:20260422T222821
CREATED:20240218T210959Z
LAST-MODIFIED:20240312T142851Z
UID:732-1711789200-1711987200@omviebalance.com
SUMMARY:Stage de jeûne de printemps
DESCRIPTION:En effet\, commencer un jeûne hydrique pour la première fois ce n’est pas évident.  La plupart du temps on se vois confronté par la peur à l’inconnu\, peur de manquer des nutriments\, de se sentir faible ou face à des inconforts dues au jeûne. Néanmoins un jeûne bien encadré va prendre en compte les besoins individuels et surtout s’assurer que les personnes n’ont pas de contrindications pour y participer.  C’est aussi une préparation mentale et physiologique\, car il faut préparer l’organisme ou l’habituer à diminuer les apports alimentaires en douceur.  Une bonne préparation alimentaire ainsi qu’une bonne reprise alimentaire vont donner des avantages pour bien vivre le jeûne et avoir cette sensation de rénovation et vitalité.  Une écoute de notre corps est aussi recommandée pour éviter toute situation désagréable ou même dangereuse.  La compréhension de comment notre organisme fonctionne\, rassure et nous permets de profiter complètement de cette expérience de rénovation et vitalité. \nCe stage de jeûne est flexible\, ça veut dire que c’est recommandé de faire 3 jours de jeûne en présentiel.  En suite vous aurez la possibilité de continuer le jeûne à distance pour 5 ou 7 jours.  La reprise d’activités et surtout le fait d’être dans un environnement dont la nourriture est préparé\, rends pas facil cette continuation.  Mais il y a des astuces et une fois accomplis les 3 jours c’est plus facil de continuer le jeûne.  Les suivis se feront à distance\, par visioconférence\, dont vous pouvez poser des questions ou bien su vous décidez d’arrêter le jeûne au but de 3 jours\, de partager les expériences des gens qui ont décidé d’aller jusqu’à 7 jours. \nQuand: du 30 mars au 1 avril en présentiel\, puis du 2-5 avril par visioconférence (à distance) \nLieu: Rothau gîite l’aROMEantic  \nInfos pratiques: \n\nEffectuez la réservation de votre place 100€ avant le 20 mai 2024\nSi vous payez avant le 10 mai\, la tarif EARLY BIRD appliquera : 230€ au lieu de 275€\nPossibilité de régler le solde en 2 fois\, dont la date d’échéance sera le 29 mars\nOn sera un groupe de maximum 8 personnes\nL’hébergement du samedi et dimanche sont comprises dans le tarif\nIl aura deux intervenants dans la naturopathie\, réflexologie et yoga\nUne fois votre réservation effectuée\, envoyez un mail de confirmation ou un message par téléphone/whatsapp 06 02 11 06 11\nAprès avoir reçu votre mail ou être en contact\, vous recevrez le détail du stage et l’information pour la préparation avant le jeûne\nL’acompte n’est pas remboursable\, sauf en cas de maladie avec justificatif\, dont 50% sera remboursé\nDes tisanes seront à disposition tout le long de la journée\nUn bouillon des légumes sera aussi disponible pour les personnes qui peuvent en avoir besoin\n\nContrindications (doivent éviter le jeûne hydrique sans supervision médicale): \n\nLes personnes atteintes de maladies chroniques telles que le diabète\, l’hypertension artérielle\, les maladies cardiaques\, les troubles rénaux ou hépatiques\nLes personnes ayant des antécédents de troubles de l’alimentation\, tels que l’anorexie ou la boulimie\nLes enfants et les adolescents\nLes femmes enceinte ou en cours d’allaitement\nLes personnes souffrant de déséquilibres électrolytiques tels que l’hyponatrémie (faible taux de sodium dans le sang) ou l’hypokaliémie (faible taux de potassium dans le sang)\nMaladies graves qui nécessitent d’un contrôle médical ou clinique\n\nLe contenu lors des premiers 3 jours de stage : \n\nConférences autour du jeûne et le bien-être physique et émotionnel\nPréparation avant du jeûne et reprise alimentaire\nExercices de méditation\, somatiques\, yoga\, respiration\nMassages de réflexologie détox en groupe (automassages et en binôme).\nPossibilité de prendre rendez-vous sur place pour massages individuels à voir avec l’organisatrice (ne sont pas compris dans les tarifs du stage : 45€)\nBalades en forêt les 3 jours\n\nLors du 4 jours de suivi accompagné par visioconférence : \n\nQuestions et conseils par rapport à la reprise alimentaire\nConseils pour possibles sensations désagréables\nPartage dans le groupe pour les expériences individuels\nVous pouvez participer aux visioconférences même si vous avez décidez d’arrêter le jeûne au but de 3 jours\n\n\nVivez le jeûne\, le bien-être et la connexion avec la terre.  A côté de la forêt et de l’air frais du printemps\, laissez-vous guider vers une vitalité optimale et une clarté d’esprit. C’est l’occasion de partager des moments de soutien et de connexion tout en continuant votre parcours de jeûne dans un cadre naturel et calme. \n*** Participez à 4 ateliers ou conférences au cours du première semestre 2024\, et vous recevrez une carte cadeau pour un massage de 1h ***
URL:https://omviebalance.com/evenement/stage-de-jeune-de-printemps/
LOCATION:Rothau\, 3 rue de bambois\, Rothau\, Bas-Rhin\, 67570\, France
CATEGORIES:Atelier
ATTACH;FMTTYPE=image/jpeg:https://omviebalance.com/wp-content/uploads/2024/02/fdb1-scaled.jpg
ORGANIZER;CN="Raquel PE%C3%91A FAJARDO":MAILTO:naturopatherachel@omviebalance.com
END:VEVENT
BEGIN:VEVENT
DTSTART;VALUE=DATE:20240413
DTEND;VALUE=DATE:20240414
DTSTAMP:20260422T222821
CREATED:20240218T212339Z
LAST-MODIFIED:20240312T145935Z
UID:738-1712966400-1713052799@omviebalance.com
SUMMARY:Harmonisez vos émotions grâce aux fleurs de Bach
DESCRIPTION:Les élixirs floraux\, crées par Edward Bach\, aident à harmoniser les états émotionnels récurrents ou passagers de chaque personne.  Parmi ces émotions on trouve 7 grand catégories qu’il a proposé : peur\, angoisse\, doutes\, manque d’intérêt\, solitude\, incertitude\, tristesse\, hypersensibilité ou préoccupation excessive. \nLes fleurs de Bach peuvent aider à soulager les états d’anxiété et favorisent l’expression émotionnelle\, la confiance en soi et a l’adaptation aux changement difficiles de la vie.  Elles peuvent aussi aider à atténuer les chocs émotionnels\, être plus à l’écoute et tolérant d’autrui\, ainsi que diriger ses pensées de façon constructive. \nVenez découvrir les bienfaits des élixirs floraux et de vous donner du temps pour faire le point sur votre état émotionnel.  Préparez-vous même l’élixir qui va vous accompagner à traverser ces moments difficiles en sérénité.  Vous serez en mesure de comprendre quels élixirs vous correspondent et d’adapter selon vos besoins. \nLes élixirs floraux de Bach ne remplacent pas les soins médicaux professionnels. Pour toute situation particulière et délicate\, il est recommandé de consulter un professionnel de la santé. \nLieu et dates : \n\nL’atelier se déroulera dans la salle d’ateliers et conférences au cabinet de Adriana Raquel Peña Fajardo\nIl en aura 2 créneaux disponibles : de 11h-12h30 et de 14h-15h30\n\nContenu: \n\nIntroduction des fleurs de Bach et Edward Bach\nExercice pratique pour prendre conscience de mon état émotionnel\nUsage de 38 élixirs floraux\nComment utiliser les fleurs de Bach\nElixirs complémentaires et contraires\nElaboration de votre élixir floraux personnalisé\n\nInscriptions: \n\nEffectuez le paiement de l’atelier\nConfirmez bien votre inscription et le créneaux de votre choix à mon adresse mail ou par message/whatsapp 06 02 11 06 11\nUne fois réceptionné votre mail/message\, vous recevrez la confirmation de votre inscription\nLes matériaux sont compris dans le tarif\nVenez accompagné d’un.e ami.e et payez 40€ pour deux personnes au lieu de 46€\n\n  \n*** Participez à 4 ateliers ou conférences au cours du première semestre 2024\, et vous recevrez une carte cadeau pour un massage de 1h ***
URL:https://omviebalance.com/evenement/harmonisez-vos-emotions-grace-aux-fleurs-de-bach/
LOCATION:Co-coon\, 3 rue Charles Péguy\, Strasbourg\, Bas-Rhin\, 67000\, France
CATEGORIES:Atelier
ATTACH;FMTTYPE=image/jpeg:https://omviebalance.com/wp-content/uploads/2024/02/bach-flowers-scaled.jpg
ORGANIZER;CN="Raquel PE%C3%91A FAJARDO":MAILTO:naturopatherachel@omviebalance.com
END:VEVENT
BEGIN:VEVENT
DTSTART;TZID=UTC:20240424T110000
DTEND;TZID=UTC:20240424T130000
DTSTAMP:20260422T222821
CREATED:20240220T135007Z
LAST-MODIFIED:20240312T152118Z
UID:744-1713956400-1713963600@omviebalance.com
SUMMARY:Atelier parents enfants : création d'herbier
DESCRIPTION:Cette atelier est destiné aux parents et enfants qui veulent partager un moment de connaisance ainsi que ludique.  On va faire une petite présentation (30 min) d’Hildegarde de Bingen\, une figure emblématique de la médecine naturelle et de la spiritualité\, ainsi que les conseils qu’elle préconsise. Pour cette raison c’est conseillé de venir avec des enfents à partir de 7 ans\, mais si vous savez que ça conviens à votre enfant plus jeune\, vous serez bienvenues. \nLa partie ludique consiste à créer un herbier.  Vous aurez à disposition des herbes\, epices et d’autres choses recommandés par Hildegarde de Bingen. Je mettrais des materiaux aussi à disposistion pour décorer votre herbier: colle\, scotch\, couleurs\, stylos et feutres.  La seule chose que faudra apporter c’est un carnet vierge et blanc\, de préference grand (style album photo) et votre petite accompagnateur et vos grandes sourires 🙂 \nVenez célebrer la journée mondiale de la terre!!!  Crée un herbier comme homage à la terre que nous donne si tant des merveilles ! Un moment de partage et de créativité\, tout en apprenant. Vous pouvez venir aussi seul.e si vous preferez. \nLieu et dates : \n\nL’atelier se déroulera dans la salle d’ateliers et conférences au cabinet de Adriana Raquel Peña Fajardo\nIl en aura 2 dates disponibles : mercredi 24 avril de 11h-13 et samedi 27 avril de 14h-16h\n\nContenu: \n\nLes principaux conseils de Hildegarde de Bingen pour une bonne vitalité (30 minutes)\nElaboration d’herbier\n\nInscriptions: \n\nEffectuez le paiement de l’atelier\nConfirmez bien votre inscription et la date de votre choix à mon adresse mail ou par message/whatsapp 06 02 11 06 11\nUne fois réceptionné votre mail/message\, vous recevrez la confirmation de votre inscription\nLes matériaux sont compris dans le tarif\, sauf le cahier que vous devrais apporter\nCapacité maximal de 5 personnes accompagnes de ses enfants\nPossibilité de venir seul.e (le tarif est pareil 27€)\n\n  \n*** Participez à 4 ateliers ou conférences au cours du première semestre 2024\, et vous recevrez une carte cadeau pour un massage de 1h ***
URL:https://omviebalance.com/evenement/creation-dherbier-avec-hildegarde-de-bingen/
LOCATION:Co-coon\, 3 rue Charles Péguy\, Strasbourg\, Bas-Rhin\, 67000\, France
CATEGORIES:Atelier
ATTACH;FMTTYPE=image/jpeg:https://omviebalance.com/wp-content/uploads/2024/02/DSC_0037_1-scaled.jpg
ORGANIZER;CN="Raquel PE%C3%91A FAJARDO":MAILTO:naturopatherachel@omviebalance.com
END:VEVENT
END:VCALENDAR