BEGIN:VCALENDAR
VERSION:2.0
PRODID:-//Omviebalance - ECPv6.15.20//NONSGML v1.0//EN
CALSCALE:GREGORIAN
METHOD:PUBLISH
X-ORIGINAL-URL:https://omviebalance.com
X-WR-CALDESC:Évènements pour Omviebalance
REFRESH-INTERVAL;VALUE=DURATION:PT1H
X-Robots-Tag:noindex
X-PUBLISHED-TTL:PT1H
BEGIN:VTIMEZONE
TZID:UTC
BEGIN:STANDARD
TZOFFSETFROM:+0000
TZOFFSETTO:+0000
TZNAME:UTC
DTSTART:20250101T000000
END:STANDARD
END:VTIMEZONE
BEGIN:VEVENT
DTSTART;TZID=UTC:20260425T100000
DTEND;TZID=UTC:20260425T120000
DTSTAMP:20260424T091622
CREATED:20250909T125031Z
LAST-MODIFIED:20250922T172640Z
UID:1290-1777111200-1777118400@omviebalance.com
SUMMARY:Voyage à l'intérieur vers l'équilibre - Troubles métaboliques
DESCRIPTION:Voyage intérieur vers l’équilibre\nNotre métabolisme reflète nos choix de vie\, notre héritage génétique et nos habitudes quotidiennes. Quand il se dérègle\, il peut entraîner surpoids\, obésité\, déséquilibres de la glycémie ou diabète de type 2.  Adoptez des habitudes de vie saines et durables pour agir et réguler le surpoids\, l’obésité et la diabète type 2 de façon naturelle. \nC’est dans cette optique que le programme naturo « VOYAGE À L’INTÉRIEUR vers l’équilibre » vous propose 9 modules mensuels d’octobre à juin\, pour mieux comprendre et apprivoiser votre corps\, vos émotions et votre mindset. \nIl suffit de consacrer un samedi matin par mois à cet accompagnement\, sans obligation de suivi chronologique\, chaque module apportant une nouvelle pièce du puzzle. Et le mieux c’est que cela se passe dans un lieu paisible et ressourçant\, l’église Saint Pierre-le-Vieux\, en plein cœur de Strasbourg. \n🌿 Le programme de 9 modules\, vous offre des conseils simples\, naturels et pratiques à appliquer chaque jour\, pour retrouver équilibre\, énergie et sérénité. \n🍀 Apprendre à mieux comprendre et gérer ton corps\, tes émotions et avoir le mindset pour y arriver. \n🔆 De la conscience corporelle ⟶ à l’équilibre émotionnel –> puis à l’application. \n🧭 Un samedi par mois (10h-12h)\, les dates sont précisées ci-dessous : \nà11 oct\, 22 nov\, 20 déc\, 3 jan\, 31 jan\, 28 mars\, 25 avril\, 16 mai\, 13 juin \n⛪ Lieu : Église Saint Pierre le Vieux\, Strasbourg (tram B et F\, arrêt Alt Winmärik) \n  \nModule 7 – Troubles métaboliques\n\nHabitudes de vie saines\nGénétique et épigénétique\nObésité et surpoids\nGlycémie et diabètes type 2\n\n  \nJe m’inscris\n•	Standard : 20€ / atelier – vous venez le samedi de votre préférence\, mais ça n’empêche que vous pouvez toujours adhérer au programme Silver ou Gold à tout moment.\n \n\n \n•	Silver : 90€ (5 ateliers 18€/atelier) – assurez votre place sur 5 modules de votre préférence\, en sachant que vous pouvez basculer au programme Gold à tout moment.  \n \n\n \n•	Gold : 160€ (9 ateliers + livre guide) – suivez le programme complet\, ainsi vous ne manquerais aucune pièce du puzzle et profitez du livret de suivi compris. \n \n\n \nBonus : séances individuelles à tarif réduit pour les participants Gold \nEarly bird à -10% pour les 10 premiers inscrits Gold avant le 15 septembre.
URL:https://omviebalance.com/evenement/voyage-a-linterieur-vers-lequilibre-troubles-metaboliques/
LOCATION:Nootoos\, Place Saint-Pierre-Le-Vieux\, Strasbourg\, 67000\, France
CATEGORIES:Atelier
ATTACH;FMTTYPE=image/jpeg:https://omviebalance.com/wp-content/uploads/2025/09/VOYAGE-INTERIEUR-Nootoos-scaled.jpg
ORGANIZER;CN="Raquel PE%C3%91A FAJARDO":MAILTO:naturopatherachel@omviebalance.com
END:VEVENT
BEGIN:VEVENT
DTSTART;TZID=UTC:20260516T100000
DTEND;TZID=UTC:20260516T120000
DTSTAMP:20260424T091622
CREATED:20250909T130508Z
LAST-MODIFIED:20250922T172838Z
UID:1292-1778925600-1778932800@omviebalance.com
SUMMARY:Voyage à l'intérieur vers l'équilibre - Libération d'émotions et schemas répétitifs
DESCRIPTION:Voyage intérieur vers l’équilibre\nNos émotions\, souvent inconscientes\, influencent nos choix\, nos relations et parfois nous enferment dans des cycles répétitifs. Comprendre et libérer ces mémoires ouvre la voie à un mieux-être profond et des nouvelles forces de vie.  Les fleurs de Bach comme soutien émotionnel naturel et le décodage biologique ainsi que la psychogénéalogie pour donner du sens aux blocages. \nC’est dans cette optique que le programme naturo « VOYAGE À L’INTÉRIEUR vers l’équilibre » vous propose 9 modules mensuels d’octobre à juin\, pour mieux comprendre et apprivoiser votre corps\, vos émotions et votre mindset. \nIl suffit de consacrer un samedi matin par mois à cet accompagnement\, sans obligation de suivi chronologique\, chaque module apportant une nouvelle pièce du puzzle. Et le mieux c’est que cela se passe dans un lieu paisible et ressourçant\, l’église Saint Pierre-le-Vieux\, en plein cœur de Strasbourg. \n🌿 Le programme de 9 modules\, vous offre des conseils simples\, naturels et pratiques à appliquer chaque jour\, pour retrouver équilibre\, énergie et sérénité. \n🍀 Apprendre à mieux comprendre et gérer ton corps\, tes émotions et avoir le mindset pour y arriver. \n🔆 De la conscience corporelle ⟶ à l’équilibre émotionnel –> puis à l’application. \n🧭 Un samedi par mois (10h-12h)\, les dates sont précisées ci-dessous : \nà11 oct\, 22 nov\, 20 déc\, 3 jan\, 31 jan\, 28 mars\, 25 avril\, 16 mai\, 13 juin \n⛪ Lieu : Église Saint Pierre le Vieux\, Strasbourg (tram B et F\, arrêt Alt Winmärik) \n  \nModule 8 – Libération d’émotions et schémas répétitifs\n\nDécodage biologique et psycho généalogie\nFleurs de Bach personnalisées\nComprendre ses émotions au-delà de la conscience\n\n  \nJe m’inscris\n•	Standard : 20€ / atelier – vous venez le samedi de votre préférence\, mais ça n’empêche que vous pouvez toujours adhérer au programme Silver ou Gold à tout moment.\n \n\n \n•	Silver : 90€ (5 ateliers 18€/atelier) – assurez votre place sur 5 modules de votre préférence\, en sachant que vous pouvez basculer au programme Gold à tout moment.  \n \n\n \n•	Gold : 160€ (9 ateliers + livre guide) – suivez le programme complet\, ainsi vous ne manquerais aucune pièce du puzzle et profitez du livret de suivi compris. \n \n\n \nBonus : séances individuelles à tarif réduit pour les participants Gold \nEarly bird à -10% pour les 10 premiers inscrits Gold avant le 15 septembre.
URL:https://omviebalance.com/evenement/voyage-a-linterieur-vers-lequilibre/
LOCATION:Nootoos\, Place Saint-Pierre-Le-Vieux\, Strasbourg\, 67000\, France
CATEGORIES:Atelier
ATTACH;FMTTYPE=image/jpeg:https://omviebalance.com/wp-content/uploads/2025/09/VOYAGE-INTERIEUR-Nootoos-scaled.jpg
ORGANIZER;CN="Raquel PE%C3%91A FAJARDO":MAILTO:naturopatherachel@omviebalance.com
END:VEVENT
BEGIN:VEVENT
DTSTART;TZID=UTC:20260613T100000
DTEND;TZID=UTC:20260613T120000
DTSTAMP:20260424T091622
CREATED:20250909T131820Z
LAST-MODIFIED:20250922T172936Z
UID:1296-1781344800-1781352000@omviebalance.com
SUMMARY:Voyage à l'intérieur vers l'équilibre - Plan d'action santé et bien-être
DESCRIPTION:Voyage intérieur vers l’équilibre\nLe véritable changement s’ancre dans le quotidien. Ce module vous accompagne à poser des bases solides pour prolonger vos avancées\, cultiver votre équilibre et avancer en toute autonomie.  Construire un plan d’action bien-être\, et cultiver le calme intérieur et la gratitude sont nécessaires pour dévenir co-créateur de votre vie. \nUn moment pour clôturer\, intégrer et repartir avec des outils concrets pour une vie plus sereine et alignée. \nC’est dans cette optique que le programme naturo « VOYAGE À L’INTÉRIEUR vers l’équilibre » vous propose 9 modules mensuels d’octobre à juin\, pour mieux comprendre et apprivoiser votre corps\, vos émotions et votre mindset. \nIl suffit de consacrer un samedi matin par mois à cet accompagnement\, sans obligation de suivi chronologique\, chaque module apportant une nouvelle pièce du puzzle. Et le mieux c’est que cela se passe dans un lieu paisible et ressourçant\, l’église Saint Pierre-le-Vieux\, en plein cœur de Strasbourg. \n🌿 Le programme de 9 modules\, vous offre des conseils simples\, naturels et pratiques à appliquer chaque jour\, pour retrouver équilibre\, énergie et sérénité. \n🍀 Apprendre à mieux comprendre et gérer ton corps\, tes émotions et avoir le mindset pour y arriver. \n🔆 De la conscience corporelle ⟶ à l’équilibre émotionnel –> puis à l’application. \n🧭 Un samedi par mois (10h-12h)\, les dates sont précisées ci-dessous : \nà11 oct\, 22 nov\, 20 déc\, 3 jan\, 31 jan\, 28 mars\, 25 avril\, 16 mai\, 13 juin \n⛪ Lieu : Église Saint Pierre le Vieux\, Strasbourg (tram B et F\, arrêt Alt Winmärik) \n  \nModule 9 – Plan d’action santé et bien-être\n\nCultiver le calme intérieur et la gratitude\nPlan d’action bien-être pour continuer seul(e)\nCercle de partage\n\n  \nJe m’inscris\n•	Standard : 20€ / atelier – vous venez le samedi de votre préférence\, mais ça n’empêche que vous pouvez toujours adhérer au programme Silver ou Gold à tout moment.\n \n\n \n•	Silver : 90€ (5 ateliers 18€/atelier) – assurez votre place sur 5 modules de votre préférence\, en sachant que vous pouvez basculer au programme Gold à tout moment.  \n \n\n \n•	Gold : 160€ (9 ateliers + livre guide) – suivez le programme complet\, ainsi vous ne manquerais aucune pièce du puzzle et profitez du livret de suivi compris. \n \n\n \nBonus : séances individuelles à tarif réduit pour les participants Gold \nEarly bird à -10% pour les 10 premiers inscrits Gold avant le 15 septembre.
URL:https://omviebalance.com/evenement/voyage-a-linterieur-vers-lequilibre-plan-daction-sante-et-bien-etre/
LOCATION:Nootoos\, Place Saint-Pierre-Le-Vieux\, Strasbourg\, 67000\, France
CATEGORIES:Atelier
ATTACH;FMTTYPE=image/jpeg:https://omviebalance.com/wp-content/uploads/2025/09/VOYAGE-INTERIEUR-Nootoos-scaled.jpg
ORGANIZER;CN="Raquel PE%C3%91A FAJARDO":MAILTO:naturopatherachel@omviebalance.com
END:VEVENT
END:VCALENDAR