BEGIN:VCALENDAR
VERSION:2.0
PRODID:-//Omviebalance - ECPv6.15.20//NONSGML v1.0//EN
CALSCALE:GREGORIAN
METHOD:PUBLISH
X-ORIGINAL-URL:https://omviebalance.com
X-WR-CALDESC:Évènements pour Omviebalance
REFRESH-INTERVAL;VALUE=DURATION:PT1H
X-Robots-Tag:noindex
X-PUBLISHED-TTL:PT1H
BEGIN:VTIMEZONE
TZID:UTC
BEGIN:STANDARD
TZOFFSETFROM:+0000
TZOFFSETTO:+0000
TZNAME:UTC
DTSTART:20240101T000000
END:STANDARD
END:VTIMEZONE
BEGIN:VEVENT
DTSTART;TZID=UTC:20251011T100000
DTEND;TZID=UTC:20251011T120000
DTSTAMP:20260423T135450
CREATED:20250903T204909Z
LAST-MODIFIED:20250922T171851Z
UID:1249-1760176800-1760184000@omviebalance.com
SUMMARY:Voyage intérieur vers l'équilibre - Ancrage et Mindset
DESCRIPTION:Voyage intérieur vers l’équilibre\nIl existe plusieurs façons de résoudre un problème\, mais leur efficacité dépend de la façon dont elles sont appliquées et d’autres facteur internes ou externes\, parfois non prise en compte. \nPour cibler les solutions naturelles\, il faut d’abord bien connaître son corps et comprendre leur fonctionnement\, car elles diffèrent des traitements médicaux par leurs effets\, leur rapidité\, leur durée et les implications pour chacun. \nC’est dans cette optique que le programme naturo « VOYAGE À L’INTÉRIEUR vers l’équilibre » vous propose 9 modules mensuels d’octobre à juin\, pour mieux comprendre et apprivoiser votre corps\, vos émotions et votre mindset. \nIl suffit de consacrer un samedi matin par mois à cet accompagnement\, sans obligation de suivi chronologique\, chaque module apportant une nouvelle pièce du puzzle. Et le mieux c’est que cela se passe dans un lieu paisible et ressourçant\, l’église Saint Pierre-le-Vieux\, en plein cœur de Strasbourg. \n  \n🌿 Le programme de 9 modules\, vous offre des conseils simples\, naturels et pratiques à appliquer chaque jour\, pour retrouver équilibre\, énergie et sérénité. \n🍀 Apprendre à mieux comprendre et gérer ton corps\, tes émotions et avoir le mindset pour y arriver. \n🔆 De la conscience corporelle ⟶ à l’équilibre émotionnel –> puis à l’application. \n🧭 Un samedi par mois (10h-12h)\, les dates sont précisées ci-dessous : \nà11 oct\, 22 nov\, 20 déc\, 3 jan\, 31 jan\, 28 mars\, 25 avril\, 16 mai\, 13 juin \n⛪ Lieu : Église Saint Pierre le Vieux\, Strasbourg (tram B et F\, arrêt Alt Winmärik) \n  \nModule 1 – Ancrage et Mindset\n\nSe reconnecter à son corps comme guide intérieur.\nRespiration physio-enérgetique (NADIS)\nMindset et vision\nDéfinir priorités\n\n  \nJe m’inscris :\n•	Standard : 20€ / atelier – vous venez le samedi de votre préférence\, mais ça n’empêche que vous pouvez toujours adhérer au programme Silver ou Gold à tout moment.\n \n\n \n•	Silver : 90€ (5 ateliers 18€/atelier) – assurez votre place sur 5 modules de votre préférence\, en sachant que vous pouvez basculer au programme Gold à tout moment.  \n \n\n \n•	Gold : 160€ (9 ateliers + livre guide) – suivez le programme complet\, ainsi vous ne manquerais aucune pièce du puzzle et profitez du livret de suivi compris. \n \n\n \nBonus : séances individuelles à tarif réduit pour les participants Gold\n\n\n\n\n\nEarly bird à -10% pour les 10 premiers inscrits Gold avant le 30 septembre.
URL:https://omviebalance.com/evenement/voyage-interieur-vers-lequilibre-2/
LOCATION:Nootoos\, Place Saint-Pierre-Le-Vieux\, Strasbourg\, 67000\, France
CATEGORIES:Atelier
ATTACH;FMTTYPE=image/jpeg:https://omviebalance.com/wp-content/uploads/2025/09/VOYAGE-INTERIEUR-Nootoos-scaled.jpg
ORGANIZER;CN="Raquel PE%C3%91A FAJARDO":MAILTO:naturopatherachel@omviebalance.com
END:VEVENT
END:VCALENDAR