BEGIN:VCALENDAR
VERSION:2.0
PRODID:-//Omviebalance - ECPv6.15.20//NONSGML v1.0//EN
CALSCALE:GREGORIAN
METHOD:PUBLISH
X-ORIGINAL-URL:https://omviebalance.com
X-WR-CALDESC:Évènements pour Omviebalance
REFRESH-INTERVAL;VALUE=DURATION:PT1H
X-Robots-Tag:noindex
X-PUBLISHED-TTL:PT1H
BEGIN:VTIMEZONE
TZID:UTC
BEGIN:STANDARD
TZOFFSETFROM:+0000
TZOFFSETTO:+0000
TZNAME:UTC
DTSTART:20240101T000000
END:STANDARD
END:VTIMEZONE
BEGIN:VEVENT
DTSTART;TZID=UTC:20250329T103000
DTEND;TZID=UTC:20250329T120000
DTSTAMP:20260424T003046
CREATED:20250210T234824Z
LAST-MODIFIED:20250210T235129Z
UID:1169-1743244200-1743249600@omviebalance.com
SUMMARY:Atelier maîtrisser son stress au travail
DESCRIPTION:✨ Atelier : Maîtrisez votre stress au travail ! ✨ \nLe stress au travail est inévitable\, mais saviez-vous qu’il est possible de mieux le gérer et de s’en libérer ? ???? \nAnaïs et Raquel vous invitent à un atelier unique de 1h30 pour découvrir des outils simples et efficaces\, inspirés de la sophrologie et de la naturopathie. L’objectif ? Vous aider à vous sentir plus serein\, libéré et ressourcé dans votre quotidien professionnel. \nAu programme :\nÉvaluer votre niveau de stress et apprendre à mieux comprendre vos émotions.\nDécouvrir des techniques de respiration\, de visualisation positive et des astuces naturelles.\nDes conseils pratiques sur l’alimentation\, la phytothérapie et les bonnes habitudes de vie pour agir durablement face au stress. \nVos animatrices :\nAnaïs Jullion : Sophrologue Caycédienne & Consultante en Bilan de Compétences.\nRaquel Peña : Naturopathe & Réflexologue.\nDétails de l’atelier : \nTarif : 10€/personne\nLieu : Tram D/A\, arrêt Paul Elouard (parking gratuit disponible).\nArrivez 10-15 minutes à l’avance pour vous installer confortablement.\nPrenez ce moment pour vous et transformez votre relation au stress grâce à des techniques naturelles et accessibles. \nInscrivez vous ! Places limités!  \nJe reserve
URL:https://omviebalance.com/evenement/atelier-maitrisse-son-stress-au-travail/
LOCATION:Co-coon\, 3 rue Charles Péguy\, Strasbourg\, Bas-Rhin\, 67000\, France
CATEGORIES:Atelier
ATTACH;FMTTYPE=image/jpeg:https://omviebalance.com/wp-content/uploads/2025/02/Atelier-stress-au-travail-mars.jpg
ORGANIZER;CN="Raquel PE%C3%91A FAJARDO":MAILTO:naturopatherachel@omviebalance.com
END:VEVENT
END:VCALENDAR