BEGIN:VCALENDAR
VERSION:2.0
PRODID:-//Omviebalance - ECPv6.15.20//NONSGML v1.0//EN
CALSCALE:GREGORIAN
METHOD:PUBLISH
X-WR-CALNAME:Omviebalance
X-ORIGINAL-URL:https://omviebalance.com
X-WR-CALDESC:Évènements pour Omviebalance
REFRESH-INTERVAL;VALUE=DURATION:PT1H
X-Robots-Tag:noindex
X-PUBLISHED-TTL:PT1H
BEGIN:VTIMEZONE
TZID:UTC
BEGIN:STANDARD
TZOFFSETFROM:+0000
TZOFFSETTO:+0000
TZNAME:UTC
DTSTART:20240101T000000
END:STANDARD
END:VTIMEZONE
BEGIN:VEVENT
DTSTART;TZID=UTC:20251128T080000
DTEND;TZID=UTC:20251201T233000
DTSTAMP:20260424T231005
CREATED:20251128T090253Z
LAST-MODIFIED:20251128T091208Z
UID:1348-1764316800-1764631800@omviebalance.com
SUMMARY:Black Friday Bien être 2025
DESCRIPTION:Cette année\, investis dans ce qu’il y a de plus précieux : ta santé!\nPour 4 jours seulement\, je t’offre des tarifs exceptionnels pour te recentrer\, retrouver l’équilibre\, apaiser ton stress et honorer ton bien-être. \n🎉 Black Friday Bien-Être (4 jours uniquement) \n–50% sur les Ateliers Gold : un vrai voyage intérieur vers ton équilibre. Code: BIENETREGOLD50 \n \n\n \n–40% sur la Carte Cadeau (pour toi ou pour offrir) – 1h30 bien-être et soin complet. Code: KDOBIENETRE40 \n \n\n \n–25% sur le Pack Sérénité 10 séances → 412€ au lieu de 550€ (soit 55€ déjà réduit + la remise Black Friday). Code: PSERENITE25 \n \n\n \n✨ Parce que la santé\, c’est ton meilleur investissement. \n📩 Réserve avec les codes avant lundi 1er décembre minuit.
URL:https://omviebalance.com/evenement/black-friday-bien-etre-2025/
CATEGORIES:Atelier,Conference
ATTACH;FMTTYPE=image/jpeg:https://omviebalance.com/wp-content/uploads/2025/11/50-40-25-de-reduction-pour-Black-Friday-.jpg
END:VEVENT
BEGIN:VEVENT
DTSTART;TZID=UTC:20251220T100000
DTEND;TZID=UTC:20251220T120000
DTSTAMP:20260424T231005
CREATED:20250906T202852Z
LAST-MODIFIED:20250922T171137Z
UID:1266-1766224800-1766232000@omviebalance.com
SUMMARY:Voyage intérieur vers l'équilibre - apaiser le mental
DESCRIPTION:Voyage vers l’intérieur\nC’est dans cette optique que le programme naturo « VOYAGE À L’INTÉRIEUR vers l’équilibre » vous propose 9 modules mensuels d’octobre à juin\, pour mieux comprendre et apprivoiser votre corps\, vos émotions et votre mindset. \nIl suffit de consacrer un samedi matin par mois à cet accompagnement\, sans obligation de suivi chronologique\, chaque module apportant une nouvelle pièce du puzzle. Et le mieux c’est que cela se passe dans un lieu paisible et ressourçant\, l’église Saint Pierre-le-Vieux\, en plein cœur de Strasbourg. \n🌿 Le programme de 9 modules\, vous offre des conseils simples\, naturels et pratiques à appliquer chaque jour\, pour retrouver équilibre\, énergie et sérénité. \n🍀 Apprendre à mieux comprendre et gérer ton corps\, tes émotions et avoir le mindset pour y arriver. \n🔆 De la conscience corporelle ⟶ à l’équilibre émotionnel –> puis à l’application. \n🧭 Un samedi par mois (10h-12h)\, les dates sont précisées ci-dessous :\n11 oct\, 22 nov\, 20 déc\, 3 jan\, 31 jan\, 28 mars\, 25 avril\, 16 mai\, 13 juin \n⛪ Lieu : Église Saint Pierre le Vieux\, Strasbourg (tram B et F\, arrêt Alt Winmärik) \nModule 3 – Apaiser le mental\n\nLa méditation autrement vue\nGéométrie sacrée pour apaiser le mental\nLe stress\nLe sucre et les aliments raffinés dans la vie actuelle\n\n  \nJe m’inscris\n•	Standard : 20€ / atelier – vous venez le samedi de votre préférence\, mais ça n’empêche que vous pouvez toujours adhérer au programme Silver ou Gold à tout moment.\n \n\n \n•	Silver : 90€ (5 ateliers 18€/atelier) – assurez votre place sur 5 modules de votre préférence\, en sachant que vous pouvez basculer au programme Gold à tout moment.  \n \n\n \n•	Gold : 160€ (9 ateliers + livre guide) – suivez le programme complet\, ainsi vous ne manquerais aucune pièce du puzzle et profitez du livret de suivi compris. \n \n\n \nBonus : séances individuelles à tarif réduit pour les participants Gold\n\nEarly bird à -10% pour les 10 premiers inscrits Gold avant le 30 septembre.
URL:https://omviebalance.com/evenement/voyage-interieur-vers-lequilibre-apaiser-le-mental/
LOCATION:Nootoos\, Place Saint-Pierre-Le-Vieux\, Strasbourg\, 67000\, France
CATEGORIES:Atelier
ATTACH;FMTTYPE=image/jpeg:https://omviebalance.com/wp-content/uploads/2025/09/VOYAGE-INTERIEUR-Nootoos-scaled.jpg
ORGANIZER;CN="Raquel PE%C3%91A FAJARDO":MAILTO:naturopatherachel@omviebalance.com
END:VEVENT
END:VCALENDAR