BEGIN:VCALENDAR
VERSION:2.0
PRODID:-//Omviebalance - ECPv6.15.20//NONSGML v1.0//EN
CALSCALE:GREGORIAN
METHOD:PUBLISH
X-WR-CALNAME:Omviebalance
X-ORIGINAL-URL:https://omviebalance.com
X-WR-CALDESC:Évènements pour Omviebalance
REFRESH-INTERVAL;VALUE=DURATION:PT1H
X-Robots-Tag:noindex
X-PUBLISHED-TTL:PT1H
BEGIN:VTIMEZONE
TZID:UTC
BEGIN:STANDARD
TZOFFSETFROM:+0000
TZOFFSETTO:+0000
TZNAME:UTC
DTSTART:20240101T000000
END:STANDARD
END:VTIMEZONE
BEGIN:VEVENT
DTSTART;TZID=UTC:20250313T180000
DTEND;TZID=UTC:20250313T200000
DTSTAMP:20260422T023659
CREATED:20250129T172810Z
LAST-MODIFIED:20250131T145213Z
UID:1126-1741888800-1741896000@omviebalance.com
SUMMARY:Revolutionne ta santé avec la Naturopathie intégrative - Nootoos
DESCRIPTION:✨ Et si je vous aidais à prendre soin de vous dans votre globalité ? ✨ \nEn partenariat avec Nootoos\, lieu ouverte et de partage pour des projets si différents que complémentaires\, je suis contente de présenter cet atelier de Naturopathie intégrative.  Comme son nom\, l’indique\, elle intègre les dimensions du mental\, du physique et de l’émotionnel de l’individu.  Je suis convaincue que votre santé repose sur un équilibre subtil entre ces dimensions et la Naturopathie apporte des solutions pour y arriver à retrouver cet équilibre. 🌿 Lors de cet atelier\, je vous propose de découvrir : \n💡 L’importance d’un suivi personnalisé pour répondre à vos besoins spécifiques.\n🥗 Le rôle essentiel de l’alimentation dans la prévention des maladies.\n🧘‍♀️ Comment adopter des habitudes de vie saines\, adaptées à notre quotidien. \n👉 Avec la naturopathie\, je vous accompagne pour retrouver l’harmonie et mieux vivre les troubles plus profonds ou les maladies graves\, grâce à une approche intégrative et globale.\n📅 Rejoignez-moi pour faire le premier pas vers une santé équilibrée et durable.\n💬 Inscrivez-vous dès maintenant\, je suis là pour vous guider ! 🌸 \n📅 Date : jeudi 13 mars 2025\n🕒 Horaire : 18-20h\n▶Raquel Peña / naturopatherachel@omviebalance.com /  06 02 11 06 11
URL:https://omviebalance.com/evenement/1126/
LOCATION:Nootoos\, Place Saint-Pierre-Le-Vieux\, Strasbourg\, 67000\, France
CATEGORIES:Atelier
ATTACH;FMTTYPE=image/jpeg:https://omviebalance.com/wp-content/uploads/2025/01/Bulle-Naturointegrative.jpg
ORGANIZER;CN="Raquel PE%C3%91A FAJARDO":MAILTO:naturopatherachel@omviebalance.com
END:VEVENT
END:VCALENDAR