BEGIN:VCALENDAR
VERSION:2.0
PRODID:-//Omviebalance - ECPv6.15.20//NONSGML v1.0//EN
CALSCALE:GREGORIAN
METHOD:PUBLISH
X-ORIGINAL-URL:https://omviebalance.com
X-WR-CALDESC:Évènements pour Omviebalance
REFRESH-INTERVAL;VALUE=DURATION:PT1H
X-Robots-Tag:noindex
X-PUBLISHED-TTL:PT1H
BEGIN:VTIMEZONE
TZID:UTC
BEGIN:STANDARD
TZOFFSETFROM:+0000
TZOFFSETTO:+0000
TZNAME:UTC
DTSTART:20240101T000000
END:STANDARD
END:VTIMEZONE
BEGIN:VEVENT
DTSTART;TZID=UTC:20250307T180000
DTEND;TZID=UTC:20250307T190000
DTSTAMP:20260422T023834
CREATED:20250225T100734Z
LAST-MODIFIED:20250225T135643Z
UID:1179-1741370400-1741374000@omviebalance.com
SUMMARY:Atelier - Sommeil réparateur
DESCRIPTION:🌿 Atelier Bien-Être : Retrouver un Sommeil Réparateur et Plus d’Énergie au Quotidien 😴✨ \nVous vous sentez fatigué(e)\, en manque d’énergie ou perturbé(e) par des nuits agitées ? Et si la naturopathie pouvait vous aider ? \nJe vous invite à un atelier bien-être où nous explorerons des solutions naturelles pour améliorer votre sommeil et retrouver vitalité et équilibre. 🌙💆‍♀️ \nAu programme :\n✅ Comprendre les causes des troubles du sommeil\n✅ Découvrir des plantes\, huiles essentielles et techniques naturelles\n✅ Adopter des rituels simples pour un sommeil réparateur \nRepartez avec des clés concrètes pour mieux dormir et booster votre énergie au quotidien ! \n📅 Vendredi 7 mars 2025\n📍 3 rue charles péguy\, 3° étage\, espace Co-Coon\n⏳ 18h\n💡 Places limitées\n🌱Tarif conseillé 10€ – prix libre en consciense ! \n✨ Prêt(e) à retrouver un sommeil de qualité ? Réservez votre place dès maintenant ! 💙 \nRéservez votre place dès maintenant ! ✨ 👇  (vous pouvez aussi confirmer votre assistance par mail à naturopatherachel@omviebalance.com) \n    \n     \n\n    Retrouvez Raquel Pena Fajardo – Omviebalance sur Resalib : annuaire\, référencement et prise de rendez-vous pour les Naturopathes
URL:https://omviebalance.com/evenement/atelier-sommeil-reparateur/
LOCATION:Co-coon\, 3 rue Charles Péguy\, Strasbourg\, Bas-Rhin\, 67000\, France
CATEGORIES:Atelier
ATTACH;FMTTYPE=image/jpeg:https://omviebalance.com/wp-content/uploads/2025/02/Atelier-sommeil-Fr.jpg
ORGANIZER;CN="Raquel PE%C3%91A FAJARDO":MAILTO:naturopatherachel@omviebalance.com
END:VEVENT
END:VCALENDAR