BEGIN:VCALENDAR
VERSION:2.0
PRODID:-//Omviebalance - ECPv6.15.20//NONSGML v1.0//EN
CALSCALE:GREGORIAN
METHOD:PUBLISH
X-WR-CALNAME:Omviebalance
X-ORIGINAL-URL:https://omviebalance.com
X-WR-CALDESC:Évènements pour Omviebalance
REFRESH-INTERVAL;VALUE=DURATION:PT1H
X-Robots-Tag:noindex
X-PUBLISHED-TTL:PT1H
BEGIN:VTIMEZONE
TZID:UTC
BEGIN:STANDARD
TZOFFSETFROM:+0000
TZOFFSETTO:+0000
TZNAME:UTC
DTSTART:20230101T000000
END:STANDARD
END:VTIMEZONE
BEGIN:VEVENT
DTSTART;TZID=UTC:20240619T120000
DTEND;TZID=UTC:20240619T130000
DTSTAMP:20260422T205241
CREATED:20240220T144713Z
LAST-MODIFIED:20240220T144915Z
UID:759-1718798400-1718802000@omviebalance.com
SUMMARY:Les Huiles essentiels dans ma trousse de voyage
DESCRIPTION:Les huiles essentiels basiques à avoir dans son placard à la place de choisir des produits chimiques juste par habitude.  Préparer la trousse de voyage idéale pour le maux de tous les jours et partez avec l’esprit tranquile.  Quelles huiles choisir et comment les utiliser. \nComment s’inscrire ?\n1. Effectuez le paiement\n2. Confirmez bien votre inscription à mon adresse : naturopatherachel@omviebalance.com ou par message whatsapp 06 02 11 06 11\n3. Une fois réceptionné votre mail/message\, vous recevrez la confirmation de votre inscription et les détails de l’atelier. \nDate : mercredi 19 juin à 12h 🙂 \n*** Participez à 4 ateliers ou conférences au cours du première semestre 2024\, et vous recevrez une carte cadeau pour un massage de 1h ***
URL:https://omviebalance.com/evenement/les-huiles-essentiels-dans-ma-trousse-de-voyage/
LOCATION:Visioconférence
CATEGORIES:Conference
ATTACH;FMTTYPE=image/jpeg:https://omviebalance.com/wp-content/uploads/2024/02/huile-essentiel-scaled.jpg
ORGANIZER;CN="Raquel PE%C3%91A FAJARDO":MAILTO:naturopatherachel@omviebalance.com
END:VEVENT
END:VCALENDAR