BEGIN:VCALENDAR
VERSION:2.0
PRODID:-//Omviebalance - ECPv6.15.20//NONSGML v1.0//EN
CALSCALE:GREGORIAN
METHOD:PUBLISH
X-WR-CALNAME:Omviebalance
X-ORIGINAL-URL:https://omviebalance.com
X-WR-CALDESC:Évènements pour Omviebalance
REFRESH-INTERVAL;VALUE=DURATION:PT1H
X-Robots-Tag:noindex
X-PUBLISHED-TTL:PT1H
BEGIN:VTIMEZONE
TZID:UTC
BEGIN:STANDARD
TZOFFSETFROM:+0000
TZOFFSETTO:+0000
TZNAME:UTC
DTSTART:20230101T000000
END:STANDARD
END:VTIMEZONE
BEGIN:VEVENT
DTSTART;TZID=UTC:20240511T110000
DTEND;TZID=UTC:20240511T123000
DTSTAMP:20260422T222629
CREATED:20240220T141807Z
LAST-MODIFIED:20240220T145828Z
UID:753-1715425200-1715430600@omviebalance.com
SUMMARY:DIY hygiène corporelle et cosmetique 100% naturelle
DESCRIPTION:Excellent idée cadeau pour le jour de fête des mères ! \nFabrique ton propre gel douche\, ta dentifrice et un baume hydratante pour les lèvres. En plus d’être une expérience éducative\, interactive et enrichissante\, tu vas pouvoir prendre soin de toi et de ton budget. Un trio élaboré 100% par toi et naturel. \nComment s’inscrire ?\n1. Effectuez le paiement\n2. Confirmez bien votre inscription à mon adresse : naturopatherachel@omviebalance.com ou par message whatsapp 06 02 11 06 11\n3. Une fois réceptionné votre mail/message\, vous recevrez la confirmation de votre inscription et les détails de l’atelier. \nDate et horaire: samedi 11 mai à 11h 🙂 \nTout le materiel est fourni ! Maximum 8 personnes \n*** Participez à 4 ateliers ou conférences au cours du première semestre 2024\, et vous recevrez une carte cadeau pour un massage de 1h ***
URL:https://omviebalance.com/evenement/diy-hygiene-corporelle-et-cosmetique-100-naturelle/
LOCATION:Co-coon\, 3 rue Charles Péguy\, Strasbourg\, Bas-Rhin\, 67000\, France
CATEGORIES:Atelier
ATTACH;FMTTYPE=image/jpeg:https://omviebalance.com/wp-content/uploads/2024/02/floresyfrascos.jpg
ORGANIZER;CN="Raquel PE%C3%91A FAJARDO":MAILTO:naturopatherachel@omviebalance.com
END:VEVENT
END:VCALENDAR