BEGIN:VCALENDAR
VERSION:2.0
PRODID:-//Omviebalance - ECPv6.15.20//NONSGML v1.0//EN
CALSCALE:GREGORIAN
METHOD:PUBLISH
X-ORIGINAL-URL:https://omviebalance.com
X-WR-CALDESC:Évènements pour Omviebalance
REFRESH-INTERVAL;VALUE=DURATION:PT1H
X-Robots-Tag:noindex
X-PUBLISHED-TTL:PT1H
BEGIN:VTIMEZONE
TZID:UTC
BEGIN:STANDARD
TZOFFSETFROM:+0000
TZOFFSETTO:+0000
TZNAME:UTC
DTSTART:20230101T000000
END:STANDARD
END:VTIMEZONE
BEGIN:VEVENT
DTSTART;TZID=UTC:20240509T110000
DTEND;TZID=UTC:20240509T123000
DTSTAMP:20260422T222101
CREATED:20240218T214518Z
LAST-MODIFIED:20240220T145727Z
UID:741-1715252400-1715257800@omviebalance.com
SUMMARY:Fleurs de Bach dans l'adolescence
DESCRIPTION:Les fleurs de Bach peuvent être de grand aide pour les adolescents\, une période souvent marquée par des changements physiques et émotionnels rapides. Elles vont aider à mieux gérer le stress lors des pressions académiques\, sociales ou familiales. Elles vont aider aussi à mieux intégrer les émotions et les exprimer\, à renforcer la confiance en soi et encourager une attitude positive. Enfin\, à cette période de la vie\, atténuer les difficultés liées aux changements et faciliter le pouvoir d’adaptation\, est possible grâce aux fleurs de Bach. Les fleurs de Bach ne remplacent pas les soins médicaux professionnels pour des situation particulières. \nTout le maretial est compris dans l’atelier. \nComment s’inscrire ?\n1. Effectuez le paiement\n2. Confirmez bien votre inscription à mon adresse : naturopatherachel@omviebalance.com ou par message whatsapp 06 02 11 06 11\n3. Une fois réceptionné votre mail/message\, vous recevrez la confirmation de votre inscription et les détails de l’atelier. \nA jeudi 9 mai\, 11h 🙂 \n*** Participez à 4 ateliers ou conférences au cours du première semestre 2024\, et vous recevrez une carte cadeau pour un massage de 1h ***
URL:https://omviebalance.com/evenement/fleurs-de-bach-dans-ladolescence/
LOCATION:Co-coon\, 3 rue Charles Péguy\, Strasbourg\, Bas-Rhin\, 67000\, France
CATEGORIES:Atelier
ATTACH;FMTTYPE=image/jpeg:https://omviebalance.com/wp-content/uploads/2024/02/fdb2-scaled.jpg
ORGANIZER;CN="Raquel PE%C3%91A FAJARDO":MAILTO:naturopatherachel@omviebalance.com
END:VEVENT
END:VCALENDAR