BEGIN:VCALENDAR
VERSION:2.0
PRODID:-//Omviebalance - ECPv6.15.20//NONSGML v1.0//EN
CALSCALE:GREGORIAN
METHOD:PUBLISH
X-WR-CALNAME:Omviebalance
X-ORIGINAL-URL:https://omviebalance.com
X-WR-CALDESC:Évènements pour Omviebalance
REFRESH-INTERVAL;VALUE=DURATION:PT1H
X-Robots-Tag:noindex
X-PUBLISHED-TTL:PT1H
BEGIN:VTIMEZONE
TZID:UTC
BEGIN:STANDARD
TZOFFSETFROM:+0000
TZOFFSETTO:+0000
TZNAME:UTC
DTSTART:20230101T000000
END:STANDARD
END:VTIMEZONE
BEGIN:VEVENT
DTSTART;TZID=UTC:20240330T090000
DTEND;TZID=UTC:20240401T160000
DTSTAMP:20260423T013218
CREATED:20240218T210959Z
LAST-MODIFIED:20240312T142851Z
UID:732-1711789200-1711987200@omviebalance.com
SUMMARY:Stage de jeûne de printemps
DESCRIPTION:En effet\, commencer un jeûne hydrique pour la première fois ce n’est pas évident.  La plupart du temps on se vois confronté par la peur à l’inconnu\, peur de manquer des nutriments\, de se sentir faible ou face à des inconforts dues au jeûne. Néanmoins un jeûne bien encadré va prendre en compte les besoins individuels et surtout s’assurer que les personnes n’ont pas de contrindications pour y participer.  C’est aussi une préparation mentale et physiologique\, car il faut préparer l’organisme ou l’habituer à diminuer les apports alimentaires en douceur.  Une bonne préparation alimentaire ainsi qu’une bonne reprise alimentaire vont donner des avantages pour bien vivre le jeûne et avoir cette sensation de rénovation et vitalité.  Une écoute de notre corps est aussi recommandée pour éviter toute situation désagréable ou même dangereuse.  La compréhension de comment notre organisme fonctionne\, rassure et nous permets de profiter complètement de cette expérience de rénovation et vitalité. \nCe stage de jeûne est flexible\, ça veut dire que c’est recommandé de faire 3 jours de jeûne en présentiel.  En suite vous aurez la possibilité de continuer le jeûne à distance pour 5 ou 7 jours.  La reprise d’activités et surtout le fait d’être dans un environnement dont la nourriture est préparé\, rends pas facil cette continuation.  Mais il y a des astuces et une fois accomplis les 3 jours c’est plus facil de continuer le jeûne.  Les suivis se feront à distance\, par visioconférence\, dont vous pouvez poser des questions ou bien su vous décidez d’arrêter le jeûne au but de 3 jours\, de partager les expériences des gens qui ont décidé d’aller jusqu’à 7 jours. \nQuand: du 30 mars au 1 avril en présentiel\, puis du 2-5 avril par visioconférence (à distance) \nLieu: Rothau gîite l’aROMEantic  \nInfos pratiques: \n\nEffectuez la réservation de votre place 100€ avant le 20 mai 2024\nSi vous payez avant le 10 mai\, la tarif EARLY BIRD appliquera : 230€ au lieu de 275€\nPossibilité de régler le solde en 2 fois\, dont la date d’échéance sera le 29 mars\nOn sera un groupe de maximum 8 personnes\nL’hébergement du samedi et dimanche sont comprises dans le tarif\nIl aura deux intervenants dans la naturopathie\, réflexologie et yoga\nUne fois votre réservation effectuée\, envoyez un mail de confirmation ou un message par téléphone/whatsapp 06 02 11 06 11\nAprès avoir reçu votre mail ou être en contact\, vous recevrez le détail du stage et l’information pour la préparation avant le jeûne\nL’acompte n’est pas remboursable\, sauf en cas de maladie avec justificatif\, dont 50% sera remboursé\nDes tisanes seront à disposition tout le long de la journée\nUn bouillon des légumes sera aussi disponible pour les personnes qui peuvent en avoir besoin\n\nContrindications (doivent éviter le jeûne hydrique sans supervision médicale): \n\nLes personnes atteintes de maladies chroniques telles que le diabète\, l’hypertension artérielle\, les maladies cardiaques\, les troubles rénaux ou hépatiques\nLes personnes ayant des antécédents de troubles de l’alimentation\, tels que l’anorexie ou la boulimie\nLes enfants et les adolescents\nLes femmes enceinte ou en cours d’allaitement\nLes personnes souffrant de déséquilibres électrolytiques tels que l’hyponatrémie (faible taux de sodium dans le sang) ou l’hypokaliémie (faible taux de potassium dans le sang)\nMaladies graves qui nécessitent d’un contrôle médical ou clinique\n\nLe contenu lors des premiers 3 jours de stage : \n\nConférences autour du jeûne et le bien-être physique et émotionnel\nPréparation avant du jeûne et reprise alimentaire\nExercices de méditation\, somatiques\, yoga\, respiration\nMassages de réflexologie détox en groupe (automassages et en binôme).\nPossibilité de prendre rendez-vous sur place pour massages individuels à voir avec l’organisatrice (ne sont pas compris dans les tarifs du stage : 45€)\nBalades en forêt les 3 jours\n\nLors du 4 jours de suivi accompagné par visioconférence : \n\nQuestions et conseils par rapport à la reprise alimentaire\nConseils pour possibles sensations désagréables\nPartage dans le groupe pour les expériences individuels\nVous pouvez participer aux visioconférences même si vous avez décidez d’arrêter le jeûne au but de 3 jours\n\n\nVivez le jeûne\, le bien-être et la connexion avec la terre.  A côté de la forêt et de l’air frais du printemps\, laissez-vous guider vers une vitalité optimale et une clarté d’esprit. C’est l’occasion de partager des moments de soutien et de connexion tout en continuant votre parcours de jeûne dans un cadre naturel et calme. \n*** Participez à 4 ateliers ou conférences au cours du première semestre 2024\, et vous recevrez une carte cadeau pour un massage de 1h ***
URL:https://omviebalance.com/evenement/stage-de-jeune-de-printemps/
LOCATION:Rothau\, 3 rue de bambois\, Rothau\, Bas-Rhin\, 67570\, France
CATEGORIES:Atelier
ATTACH;FMTTYPE=image/jpeg:https://omviebalance.com/wp-content/uploads/2024/02/fdb1-scaled.jpg
ORGANIZER;CN="Raquel PE%C3%91A FAJARDO":MAILTO:naturopatherachel@omviebalance.com
END:VEVENT
END:VCALENDAR