BEGIN:VCALENDAR
VERSION:2.0
PRODID:-//Omviebalance - ECPv6.15.20//NONSGML v1.0//EN
CALSCALE:GREGORIAN
METHOD:PUBLISH
X-WR-CALNAME:Omviebalance
X-ORIGINAL-URL:https://omviebalance.com
X-WR-CALDESC:Évènements pour Omviebalance
REFRESH-INTERVAL;VALUE=DURATION:PT1H
X-Robots-Tag:noindex
X-PUBLISHED-TTL:PT1H
BEGIN:VTIMEZONE
TZID:UTC
BEGIN:STANDARD
TZOFFSETFROM:+0000
TZOFFSETTO:+0000
TZNAME:UTC
DTSTART:20230101T000000
END:STANDARD
END:VTIMEZONE
BEGIN:VEVENT
DTSTART;TZID=UTC:20240203T153000
DTEND;TZID=UTC:20240203T163000
DTSTAMP:20260423T025809
CREATED:20240123T115001Z
LAST-MODIFIED:20240201T155911Z
UID:658-1706974200-1706977800@omviebalance.com
SUMMARY:Booster l'immunité naturellement
DESCRIPTION:Lors de cette conférence\, je vais vous partager des informations utiles et des conseils concrets pour accompagner l’organisme et renforcer les défenses immunitaires pendent la période d’hiver. \nEn hiver\, l’organisme va naturellement vouloir se reposer\, hélas\, notre mode de vie actuelle nous demande de faire beaucoup d’activités physiques et mentales.  La naturopathie es bien d’être dans la prévention avec des moyennes naturels et si vous préparez votre corps aux changement externes\, vous pouvez avoir une meilleurs vitalité et plus d’énergie physique et mental. \nCette conférence se fera en visio depuis googlemeets\, et l’information vous sera transmis après votre paiement. \nComment s’inscrire ? \n1.Effectuez votre paiement \n2.Confirmez bien votre inscription à mon adresse : naturopatherachel@omviebalance.com ou par whatsapp 06 02 11 06 11 \n3.Une fois réceptionné votre mail ou message\, vous recevrez par mail ou message les détails de la conférence \nPrenez votre place car il y a juste 10 participants maximum ! \nA samedi 3 février à 15h30 !
URL:https://omviebalance.com/evenement/booster-limmunite-naturellement/
LOCATION:Visioconférence
CATEGORIES:Conference
ATTACH;FMTTYPE=image/jpeg:https://omviebalance.com/wp-content/uploads/2024/01/syst-immunitaire-scaled.jpg
ORGANIZER;CN="Raquel PE%C3%91A FAJARDO":MAILTO:naturopatherachel@omviebalance.com
END:VEVENT
END:VCALENDAR